BEGIN:VCALENDAR
VERSION:2.0
PRODID:-//Olenbrooker Schlüsenchor - ECPv6.15.20//NONSGML v1.0//EN
CALSCALE:GREGORIAN
METHOD:PUBLISH
X-ORIGINAL-URL:https://www.schluesenchor.de
X-WR-CALDESC:Veranstaltungen für Olenbrooker Schlüsenchor
REFRESH-INTERVAL;VALUE=DURATION:PT1H
X-Robots-Tag:noindex
X-PUBLISHED-TTL:PT1H
BEGIN:VTIMEZONE
TZID:Europe/Berlin
BEGIN:DAYLIGHT
TZOFFSETFROM:+0100
TZOFFSETTO:+0200
TZNAME:CEST
DTSTART:20250330T010000
END:DAYLIGHT
BEGIN:STANDARD
TZOFFSETFROM:+0200
TZOFFSETTO:+0100
TZNAME:CET
DTSTART:20251026T010000
END:STANDARD
BEGIN:DAYLIGHT
TZOFFSETFROM:+0100
TZOFFSETTO:+0200
TZNAME:CEST
DTSTART:20260329T010000
END:DAYLIGHT
BEGIN:STANDARD
TZOFFSETFROM:+0200
TZOFFSETTO:+0100
TZNAME:CET
DTSTART:20261025T010000
END:STANDARD
BEGIN:DAYLIGHT
TZOFFSETFROM:+0100
TZOFFSETTO:+0200
TZNAME:CEST
DTSTART:20270328T010000
END:DAYLIGHT
BEGIN:STANDARD
TZOFFSETFROM:+0200
TZOFFSETTO:+0100
TZNAME:CET
DTSTART:20271031T010000
END:STANDARD
END:VTIMEZONE
BEGIN:VEVENT
DTSTART;TZID=Europe/Berlin:20260709T163000
DTEND;TZID=Europe/Berlin:20260709T180000
DTSTAMP:20260423T001224
CREATED:20250904T120727Z
LAST-MODIFIED:20260319T091435Z
UID:641-1783614600-1783620000@www.schluesenchor.de
SUMMARY:Konzert an der Seeühne in Otterndorf
DESCRIPTION:Mit Volldampf an der Seebühne in Otterndorf. \n 
URL:https://www.schluesenchor.de/event/konzert-am-see-in-otterndorf/
LOCATION:Otterndor an der Seebühne\, Achtern Diek\, Otterndorf\, 21763\, Germany
END:VEVENT
END:VCALENDAR