BEGIN:VCALENDAR
VERSION:2.0
PRODID:-//Olenbrooker Schlüsenchor - ECPv6.15.20//NONSGML v1.0//EN
CALSCALE:GREGORIAN
METHOD:PUBLISH
X-ORIGINAL-URL:https://www.schluesenchor.de
X-WR-CALDESC:Veranstaltungen für Olenbrooker Schlüsenchor
REFRESH-INTERVAL;VALUE=DURATION:PT1H
X-Robots-Tag:noindex
X-PUBLISHED-TTL:PT1H
BEGIN:VTIMEZONE
TZID:Europe/Berlin
BEGIN:DAYLIGHT
TZOFFSETFROM:+0100
TZOFFSETTO:+0200
TZNAME:CEST
DTSTART:20250330T010000
END:DAYLIGHT
BEGIN:STANDARD
TZOFFSETFROM:+0200
TZOFFSETTO:+0100
TZNAME:CET
DTSTART:20251026T010000
END:STANDARD
BEGIN:DAYLIGHT
TZOFFSETFROM:+0100
TZOFFSETTO:+0200
TZNAME:CEST
DTSTART:20260329T010000
END:DAYLIGHT
BEGIN:STANDARD
TZOFFSETFROM:+0200
TZOFFSETTO:+0100
TZNAME:CET
DTSTART:20261025T010000
END:STANDARD
BEGIN:DAYLIGHT
TZOFFSETFROM:+0100
TZOFFSETTO:+0200
TZNAME:CEST
DTSTART:20270328T010000
END:DAYLIGHT
BEGIN:STANDARD
TZOFFSETFROM:+0200
TZOFFSETTO:+0100
TZNAME:CET
DTSTART:20271031T010000
END:STANDARD
END:VTIMEZONE
BEGIN:VEVENT
DTSTART;TZID=Europe/Berlin:20260501T080000
DTEND;TZID=Europe/Berlin:20260501T170000
DTSTAMP:20260422T191644
CREATED:20260319T101441Z
LAST-MODIFIED:20260319T101441Z
UID:775-1777622400-1777654800@www.schluesenchor.de
SUMMARY:Privater Auftritt
DESCRIPTION:
URL:https://www.schluesenchor.de/event/privater-auftritt-4/
CATEGORIES:Unsere Auftritte
END:VEVENT
BEGIN:VEVENT
DTSTART;TZID=Europe/Berlin:20260502T080000
DTEND;TZID=Europe/Berlin:20260502T170000
DTSTAMP:20260422T191644
CREATED:20260319T101509Z
LAST-MODIFIED:20260319T102157Z
UID:777-1777708800-1777741200@www.schluesenchor.de
SUMMARY:Eröffnung der neuen Filiale der CUXHAVENER NACHRICHTEN
DESCRIPTION:Unsere tolle Zeitung feiert die Eröffnung ihres neuen Sitzes. \nDa sind wir gern dabei !
URL:https://www.schluesenchor.de/event/privater-auftritt-5/
CATEGORIES:Unsere Auftritte
END:VEVENT
BEGIN:VEVENT
DTSTART;TZID=Europe/Berlin:20260514T120000
DTEND;TZID=Europe/Berlin:20260514T130000
DTSTAMP:20260422T191644
CREATED:20260319T103005Z
LAST-MODIFIED:20260319T103219Z
UID:781-1778760000-1778763600@www.schluesenchor.de
SUMMARY:Drachenflugtage Altenbruch 2026
DESCRIPTION:In unserem geliebten Altenbruch finden die Drachenflugtage statt. \nWir sind dabei !
URL:https://www.schluesenchor.de/event/drachenflugtage-altenbruch-2026/
LOCATION:Altenbrucher Strand\, Altenbrucher Bahnhofstraße\, Cuxhaven\, 27478\, Germany
CATEGORIES:Unsere Auftritte
END:VEVENT
BEGIN:VEVENT
DTSTART;TZID=Europe/Berlin:20260523T150000
DTEND;TZID=Europe/Berlin:20260523T170000
DTSTAMP:20260422T191644
CREATED:20260319T103804Z
LAST-MODIFIED:20260319T103842Z
UID:783-1779548400-1779555600@www.schluesenchor.de
SUMMARY:Shanties an der Waldbühne
DESCRIPTION:Shanties an der Waldbühne\nAn der Waldbühne neben dem Waldfreibad in Sahlenburg werden wir ein großes Konzert geben. \nDirekt in Sichtweite zur Insel Neuwerk\, die salzige Luft riechen und den Shanties lauschen.
URL:https://www.schluesenchor.de/event/shanties-an-der-waldbuehne/
LOCATION:Waldbühne Sahlenburg\, Wernerwaldstraße 20\, 27476 Cuxhaven\, Cuxhaven\, 27476\, Germany
END:VEVENT
BEGIN:VEVENT
DTSTART;TZID=Europe/Berlin:20260613T190000
DTEND;TZID=Europe/Berlin:20260613T210000
DTSTAMP:20260422T191644
CREATED:20260319T105959Z
LAST-MODIFIED:20260319T111802Z
UID:786-1781377200-1781384400@www.schluesenchor.de
SUMMARY:50. Tag der Shanty-Chöre   Gala-Abend
DESCRIPTION:Wir gestalten den Gala-Abend\nin der Kugelbake-Halle mit überraschenden Klängen. Es erwartet Sie ein Hochgenuss traditioneller Lieder
URL:https://www.schluesenchor.de/event/50-tag-der-shanty-choere/
CATEGORIES:Unsere Auftritte
END:VEVENT
BEGIN:VEVENT
DTSTART;TZID=Europe/Berlin:20260614T153000
DTEND;TZID=Europe/Berlin:20260614T160000
DTSTAMP:20260422T191644
CREATED:20260319T111010Z
LAST-MODIFIED:20260319T111505Z
UID:790-1781451000-1781452800@www.schluesenchor.de
SUMMARY:50. Tag der Shanty-Chöre
DESCRIPTION:!  !  EIN MUSS FÜR JEDEN SHANTY-FAN  !  ! \nUnser Auftritt beim Tag der Shanty-Chöre 2026 um 15:30 \n 
URL:https://www.schluesenchor.de/event/50-tag-der-shanty-choere-2/
LOCATION:Kurpark Cuxhaven\, Kurparkallee\, Cuxhaven\, 27476
CATEGORIES:Unsere Auftritte
END:VEVENT
BEGIN:VEVENT
DTSTART;TZID=Europe/Berlin:20260626T080000
DTEND;TZID=Europe/Berlin:20260626T170000
DTSTAMP:20260422T191644
CREATED:20260319T111403Z
LAST-MODIFIED:20260319T111403Z
UID:794-1782460800-1782493200@www.schluesenchor.de
SUMMARY:Privater Auftritt
DESCRIPTION:
URL:https://www.schluesenchor.de/event/privater-auftritt-6/
CATEGORIES:Unsere Auftritte
END:VEVENT
BEGIN:VEVENT
DTSTART;TZID=Europe/Berlin:20260628T110000
DTEND;TZID=Europe/Berlin:20260628T170000
DTSTAMP:20260422T191644
CREATED:20260319T112543Z
LAST-MODIFIED:20260319T122212Z
UID:798-1782644400-1782666000@www.schluesenchor.de
SUMMARY:50 Jahre Olenbrooker Schlüsenchor e.V.
DESCRIPTION:Wir feiern 50 Jahre mit einem riesigen Dorffest ! \nKommt vorbei und feiert mit uns und unseren befreundeten Chören eine große Piratenparty \n 
URL:https://www.schluesenchor.de/event/50-jahre-olenbrooker-schluesenchores-e-v/
LOCATION:Villa Gehben\, Alter Weg 18\, Altenbruch\, 27478
CATEGORIES:Unsere Auftritte
END:VEVENT
BEGIN:VEVENT
DTSTART;TZID=Europe/Berlin:20260709T163000
DTEND;TZID=Europe/Berlin:20260709T180000
DTSTAMP:20260422T191644
CREATED:20250904T120727Z
LAST-MODIFIED:20260319T091435Z
UID:641-1783614600-1783620000@www.schluesenchor.de
SUMMARY:Konzert an der Seeühne in Otterndorf
DESCRIPTION:Mit Volldampf an der Seebühne in Otterndorf. \n 
URL:https://www.schluesenchor.de/event/konzert-am-see-in-otterndorf/
LOCATION:Otterndor an der Seebühne\, Achtern Diek\, Otterndorf\, 21763\, Germany
END:VEVENT
BEGIN:VEVENT
DTSTART;TZID=Europe/Berlin:20260827T163000
DTEND;TZID=Europe/Berlin:20260827T180000
DTSTAMP:20260422T191644
CREATED:20260319T091819Z
LAST-MODIFIED:20260319T091819Z
UID:764-1787848200-1787853600@www.schluesenchor.de
SUMMARY:Konzert an der Seebühne in Otterndorf
DESCRIPTION:Konzert an der Seebühne in Otterndorf
URL:https://www.schluesenchor.de/event/konzert-an-der-seebuehne-in-otterndorf/
LOCATION:Otterndor an der Seebühne\, Achtern Diek\, Otterndorf\, 21763\, Germany
END:VEVENT
BEGIN:VEVENT
DTSTART;TZID=Europe/Berlin:20260905T140000
DTEND;TZID=Europe/Berlin:20260905T150000
DTSTAMP:20260422T191644
CREATED:20260319T113536Z
LAST-MODIFIED:20260319T113658Z
UID:800-1788616800-1788620400@www.schluesenchor.de
SUMMARY:Buttfest 2026
DESCRIPTION:Wir singen traditionell auf der kleinen Bühne\, bei dem Segelschiff HERMINE. \nDort ist es nicht so gedrängt wie auf dem großen Platz\, man kann sitzen\, kleine Buden sind in kurzer Distanz und nur WIR spielen volle 60 Minuten !
URL:https://www.schluesenchor.de/event/buttfest-2026/
LOCATION:Buttfest\, Kaemmererpl. 1\, Cuxhaven\, 27472
CATEGORIES:Unsere Auftritte
END:VEVENT
BEGIN:VEVENT
DTSTART;TZID=Europe/Berlin:20260911T183000
DTEND;TZID=Europe/Berlin:20260911T203000
DTSTAMP:20260422T191644
CREATED:20260319T114758Z
LAST-MODIFIED:20260319T114758Z
UID:803-1789151400-1789158600@www.schluesenchor.de
SUMMARY:Konzert Dorumer Amtsgarten
DESCRIPTION:Ein sehr zu empfehlende Veranstaltung. In gemütlicher Atmosphäre des Amtsgartens der Musik lauschen.
URL:https://www.schluesenchor.de/event/konzert-dorumer-amtsgarten/
LOCATION:Dorumer Amtsgarten\, Westerbüttel 8\, Wurster Nordseeküste\, 27639
CATEGORIES:Unsere Auftritte
END:VEVENT
BEGIN:VEVENT
DTSTART;TZID=Europe/Berlin:20260930T080000
DTEND;TZID=Europe/Berlin:20260930T170000
DTSTAMP:20260422T191644
CREATED:20260319T114906Z
LAST-MODIFIED:20260319T114906Z
UID:807-1790755200-1790787600@www.schluesenchor.de
SUMMARY:Privater Auftritt
DESCRIPTION:
URL:https://www.schluesenchor.de/event/privater-auftritt-7/
CATEGORIES:Unsere Auftritte
END:VEVENT
BEGIN:VEVENT
DTSTART;TZID=Europe/Berlin:20261009T190000
DTEND;TZID=Europe/Berlin:20261009T210000
DTSTAMP:20260422T191644
CREATED:20260319T115807Z
LAST-MODIFIED:20260319T115807Z
UID:809-1791572400-1791579600@www.schluesenchor.de
SUMMARY:Konzert in den Seelandhallen in Otterndorf am See
DESCRIPTION:Ein besonderes Konzert direkt am Deich der Elbe in den Seelandhallen. Mit Bewirtung !
URL:https://www.schluesenchor.de/event/konzert-in-den-seelandhallen-in-otterndorf-am-see/
LOCATION:Seelandhallen Otterndorf\, Norderteiler Weg 2A\, Otterndorf\, 21762
CATEGORIES:Unsere Auftritte
END:VEVENT
END:VCALENDAR