BEGIN:VCALENDAR
VERSION:2.0
PRODID:-//Olenbrooker Schlüsenchor - ECPv6.15.20//NONSGML v1.0//EN
CALSCALE:GREGORIAN
METHOD:PUBLISH
X-WR-CALNAME:Olenbrooker Schlüsenchor
X-ORIGINAL-URL:https://www.schluesenchor.de
X-WR-CALDESC:Veranstaltungen für Olenbrooker Schlüsenchor
REFRESH-INTERVAL;VALUE=DURATION:PT1H
X-Robots-Tag:noindex
X-PUBLISHED-TTL:PT1H
BEGIN:VTIMEZONE
TZID:Europe/Berlin
BEGIN:DAYLIGHT
TZOFFSETFROM:+0100
TZOFFSETTO:+0200
TZNAME:CEST
DTSTART:20250330T010000
END:DAYLIGHT
BEGIN:STANDARD
TZOFFSETFROM:+0200
TZOFFSETTO:+0100
TZNAME:CET
DTSTART:20251026T010000
END:STANDARD
BEGIN:DAYLIGHT
TZOFFSETFROM:+0100
TZOFFSETTO:+0200
TZNAME:CEST
DTSTART:20260329T010000
END:DAYLIGHT
BEGIN:STANDARD
TZOFFSETFROM:+0200
TZOFFSETTO:+0100
TZNAME:CET
DTSTART:20261025T010000
END:STANDARD
BEGIN:DAYLIGHT
TZOFFSETFROM:+0100
TZOFFSETTO:+0200
TZNAME:CEST
DTSTART:20270328T010000
END:DAYLIGHT
BEGIN:STANDARD
TZOFFSETFROM:+0200
TZOFFSETTO:+0100
TZNAME:CET
DTSTART:20271031T010000
END:STANDARD
END:VTIMEZONE
BEGIN:VEVENT
DTSTART;TZID=Europe/Berlin:20260628T110000
DTEND;TZID=Europe/Berlin:20260628T170000
DTSTAMP:20260422T235225
CREATED:20260319T112543Z
LAST-MODIFIED:20260319T122212Z
UID:798-1782644400-1782666000@www.schluesenchor.de
SUMMARY:50 Jahre Olenbrooker Schlüsenchor e.V.
DESCRIPTION:Wir feiern 50 Jahre mit einem riesigen Dorffest ! \nKommt vorbei und feiert mit uns und unseren befreundeten Chören eine große Piratenparty \n 
URL:https://www.schluesenchor.de/event/50-jahre-olenbrooker-schluesenchores-e-v/
LOCATION:Villa Gehben\, Alter Weg 18\, Altenbruch\, 27478
CATEGORIES:Unsere Auftritte
END:VEVENT
END:VCALENDAR