BEGIN:VCALENDAR
VERSION:2.0
PRODID:-//Olenbrooker Schlüsenchor - ECPv6.15.20//NONSGML v1.0//EN
CALSCALE:GREGORIAN
METHOD:PUBLISH
X-ORIGINAL-URL:https://www.schluesenchor.de
X-WR-CALDESC:Veranstaltungen für Olenbrooker Schlüsenchor
REFRESH-INTERVAL;VALUE=DURATION:PT1H
X-Robots-Tag:noindex
X-PUBLISHED-TTL:PT1H
BEGIN:VTIMEZONE
TZID:Europe/Berlin
BEGIN:DAYLIGHT
TZOFFSETFROM:+0100
TZOFFSETTO:+0200
TZNAME:CEST
DTSTART:20250330T010000
END:DAYLIGHT
BEGIN:STANDARD
TZOFFSETFROM:+0200
TZOFFSETTO:+0100
TZNAME:CET
DTSTART:20251026T010000
END:STANDARD
BEGIN:DAYLIGHT
TZOFFSETFROM:+0100
TZOFFSETTO:+0200
TZNAME:CEST
DTSTART:20260329T010000
END:DAYLIGHT
BEGIN:STANDARD
TZOFFSETFROM:+0200
TZOFFSETTO:+0100
TZNAME:CET
DTSTART:20261025T010000
END:STANDARD
BEGIN:DAYLIGHT
TZOFFSETFROM:+0100
TZOFFSETTO:+0200
TZNAME:CEST
DTSTART:20270328T010000
END:DAYLIGHT
BEGIN:STANDARD
TZOFFSETFROM:+0200
TZOFFSETTO:+0100
TZNAME:CET
DTSTART:20271031T010000
END:STANDARD
END:VTIMEZONE
BEGIN:VEVENT
DTSTART;TZID=Europe/Berlin:20260502T080000
DTEND;TZID=Europe/Berlin:20260502T170000
DTSTAMP:20260422T204643
CREATED:20260319T101509Z
LAST-MODIFIED:20260319T102157Z
UID:777-1777708800-1777741200@www.schluesenchor.de
SUMMARY:Eröffnung der neuen Filiale der CUXHAVENER NACHRICHTEN
DESCRIPTION:Unsere tolle Zeitung feiert die Eröffnung ihres neuen Sitzes. \nDa sind wir gern dabei !
URL:https://www.schluesenchor.de/event/privater-auftritt-5/
CATEGORIES:Unsere Auftritte
END:VEVENT
END:VCALENDAR