BEGIN:VCALENDAR
VERSION:2.0
PRODID:-//Olenbrooker Schlüsenchor - ECPv6.15.20//NONSGML v1.0//EN
CALSCALE:GREGORIAN
METHOD:PUBLISH
X-WR-CALNAME:Olenbrooker Schlüsenchor
X-ORIGINAL-URL:https://www.schluesenchor.de
X-WR-CALDESC:Veranstaltungen für Olenbrooker Schlüsenchor
REFRESH-INTERVAL;VALUE=DURATION:PT1H
X-Robots-Tag:noindex
X-PUBLISHED-TTL:PT1H
BEGIN:VTIMEZONE
TZID:Europe/Berlin
BEGIN:DAYLIGHT
TZOFFSETFROM:+0100
TZOFFSETTO:+0200
TZNAME:CEST
DTSTART:20240331T010000
END:DAYLIGHT
BEGIN:STANDARD
TZOFFSETFROM:+0200
TZOFFSETTO:+0100
TZNAME:CET
DTSTART:20241027T010000
END:STANDARD
BEGIN:DAYLIGHT
TZOFFSETFROM:+0100
TZOFFSETTO:+0200
TZNAME:CEST
DTSTART:20250330T010000
END:DAYLIGHT
BEGIN:STANDARD
TZOFFSETFROM:+0200
TZOFFSETTO:+0100
TZNAME:CET
DTSTART:20251026T010000
END:STANDARD
BEGIN:DAYLIGHT
TZOFFSETFROM:+0100
TZOFFSETTO:+0200
TZNAME:CEST
DTSTART:20260329T010000
END:DAYLIGHT
BEGIN:STANDARD
TZOFFSETFROM:+0200
TZOFFSETTO:+0100
TZNAME:CET
DTSTART:20261025T010000
END:STANDARD
END:VTIMEZONE
BEGIN:VEVENT
DTSTART;TZID=Europe/Berlin:20250529T120000
DTEND;TZID=Europe/Berlin:20250529T130000
DTSTAMP:20260425T122752
CREATED:20250430T055415Z
LAST-MODIFIED:20250430T060753Z
UID:563-1748520000-1748523600@www.schluesenchor.de
SUMMARY:Drachenfest in Altenbruch
DESCRIPTION:
URL:https://www.schluesenchor.de/event/drachenfest-in-altenbruch/
LOCATION:Altenbrucher Strand\, Altenbrucher Bahnhofstraße\, Cuxhaven\, 27478\, Germany
CATEGORIES:Unsere Auftritte
END:VEVENT
END:VCALENDAR